BEGIN:VCALENDAR
VERSION:2.0
PRODID:-//Nebenan &amp; Unverpackt - ECPv6.14.0//NONSGML v1.0//EN
CALSCALE:GREGORIAN
METHOD:PUBLISH
X-WR-CALNAME:Nebenan &amp; Unverpackt
X-ORIGINAL-URL:https://nebenan-unverpackt.de
X-WR-CALDESC:Veranstaltungen für Nebenan &amp; Unverpackt
REFRESH-INTERVAL;VALUE=DURATION:PT1H
X-Robots-Tag:noindex
X-PUBLISHED-TTL:PT1H
BEGIN:VTIMEZONE
TZID:Europe/Berlin
BEGIN:DAYLIGHT
TZOFFSETFROM:+0100
TZOFFSETTO:+0200
TZNAME:CEST
DTSTART:20260329T010000
END:DAYLIGHT
BEGIN:STANDARD
TZOFFSETFROM:+0200
TZOFFSETTO:+0100
TZNAME:CET
DTSTART:20261025T010000
END:STANDARD
END:VTIMEZONE
BEGIN:VEVENT
DTSTART;TZID=Europe/Berlin:20260111T100000
DTEND;TZID=Europe/Berlin:20260111T160000
DTSTAMP:20260420T163741
CREATED:20241210T202246Z
LAST-MODIFIED:20260107T125306Z
UID:2036-1768125600-1768147200@nebenan-unverpackt.de
SUMMARY:Unterstützung bei der Inventur am 11.1.2026 gesucht!
DESCRIPTION:Liebe Unterstützer/innen\, \nwir haben am 11.1.2026 Inventur und hätten gerne noch tatkräftige Helfer/innen\, die uns dabei unterstützen. Wir nutzen das digitale Inventurly – eine eigens für uns von Simon gebaute Inventur-Plattform. Super easy und nutzerfreundlich.  \nGebt bitte Bescheid\, wenn Ihr kommen könnt\, um uns zu helfen! Wir freuen uns auf euch!
URL:https://nebenan-unverpackt.de/veranstaltung/unterstuetzung-bei-der-inventur-am-5-1-2025-gesucht/
END:VEVENT
END:VCALENDAR