BEGIN:VCALENDAR
VERSION:2.0
PRODID:-//Nebenan &amp; Unverpackt - ECPv6.14.0//NONSGML v1.0//EN
CALSCALE:GREGORIAN
METHOD:PUBLISH
X-WR-CALNAME:Nebenan &amp; Unverpackt
X-ORIGINAL-URL:https://nebenan-unverpackt.de
X-WR-CALDESC:Veranstaltungen für Nebenan &amp; Unverpackt
REFRESH-INTERVAL;VALUE=DURATION:PT1H
X-Robots-Tag:noindex
X-PUBLISHED-TTL:PT1H
BEGIN:VTIMEZONE
TZID:Europe/Berlin
BEGIN:DAYLIGHT
TZOFFSETFROM:+0100
TZOFFSETTO:+0200
TZNAME:CEST
DTSTART:20260329T010000
END:DAYLIGHT
BEGIN:STANDARD
TZOFFSETFROM:+0200
TZOFFSETTO:+0100
TZNAME:CET
DTSTART:20261025T010000
END:STANDARD
END:VTIMEZONE
BEGIN:VEVENT
DTSTART;TZID=Europe/Berlin:20260203T191500
DTEND;TZID=Europe/Berlin:20260203T210000
DTSTAMP:20260420T140852
CREATED:20251204T171729Z
LAST-MODIFIED:20251204T171729Z
UID:2824-1770146100-1770152400@nebenan-unverpackt.de
SUMMARY:Come together
DESCRIPTION:Wir treffen uns im Nebenan & Unverpacktladen\, um uns kennenzulernen und uns auszutauschen. \nDer Abend wird entspannt und locker und es gibt die Möglichkeit interessante Gespräche zu führen.\nSnacks und Getränke kann man erwerben und natürlich ist jeder willkommen\, der neugierig auf unseren schönen Laden ist. Wer mag kann gerne Brettspiele/Spielkarten mitbringen. \nLass uns gemeinsam einen schönen Abend verbringen. \nWir sehen uns! \nDein Nebenan & Unverpackt Team
URL:https://nebenan-unverpackt.de/veranstaltung/come-together-2/
LOCATION:Nebenan & Unverpackt Laden\, Willibaldstr. 18\, München\, 80687\, Deutschland
ATTACH;FMTTYPE=image/png:https://nebenan-unverpackt.de/wp-content/uploads/2025/12/1-1.png
ORGANIZER;CN="Nebenan & Unverpackt M%C3%BCnchen West eG":MAILTO:info@nebenan-unverpackt.de
END:VEVENT
BEGIN:VEVENT
DTSTART;TZID=Europe/Berlin:20260217T130000
DTEND;TZID=Europe/Berlin:20260217T190000
DTSTAMP:20260420T140852
CREATED:20260203T144749Z
LAST-MODIFIED:20260207T154833Z
UID:2877-1771333200-1771354800@nebenan-unverpackt.de
SUMMARY:Faschingsdienstag 2026: Ab 13 Uhr geschlossen
DESCRIPTION:
URL:https://nebenan-unverpackt.de/veranstaltung/faschingsdienst-2026-ab-13-uhr-geschlossen/
LOCATION:Bayern
END:VEVENT
END:VCALENDAR