BEGIN:VCALENDAR
VERSION:2.0
PRODID:-//Nebenan &amp; Unverpackt - ECPv6.14.0//NONSGML v1.0//EN
CALSCALE:GREGORIAN
METHOD:PUBLISH
X-WR-CALNAME:Nebenan &amp; Unverpackt
X-ORIGINAL-URL:https://nebenan-unverpackt.de
X-WR-CALDESC:Veranstaltungen für Nebenan &amp; Unverpackt
REFRESH-INTERVAL;VALUE=DURATION:PT1H
X-Robots-Tag:noindex
X-PUBLISHED-TTL:PT1H
BEGIN:VTIMEZONE
TZID:Europe/Berlin
BEGIN:DAYLIGHT
TZOFFSETFROM:+0100
TZOFFSETTO:+0200
TZNAME:CEST
DTSTART:20250330T010000
END:DAYLIGHT
BEGIN:STANDARD
TZOFFSETFROM:+0200
TZOFFSETTO:+0100
TZNAME:CET
DTSTART:20251026T010000
END:STANDARD
END:VTIMEZONE
BEGIN:VEVENT
DTSTART;TZID=Europe/Berlin:20251202T191500
DTEND;TZID=Europe/Berlin:20251202T211500
DTSTAMP:20260420T172230
CREATED:20251110T204802Z
LAST-MODIFIED:20251110T204802Z
UID:2746-1764702900-1764710100@nebenan-unverpackt.de
SUMMARY:Come Together...
DESCRIPTION:… nebenan mal Hallo sagen. \nWir treffen uns im Nebenan & Unverpacktladen\, um uns kennenzulernen und uns auszutauschen. \nDer Abend wird entspannt und locker und es gibt die Möglichkeit  interessante Gespräche zu führen.\nSnacks und Getränke kann man erwerben und natürlich ist jeder willkommen\, der neugierig auf unseren schönen Laden ist. \nLass uns gemeinsam einen schönen Abend verbringen. \nWir sehen uns!
URL:https://nebenan-unverpackt.de/veranstaltung/come-together/
LOCATION:Nebenan & Unverpackt Laden\, Willibaldstr. 18\, München\, 80687\, Deutschland
ATTACH;FMTTYPE=image/png:https://nebenan-unverpackt.de/wp-content/uploads/2025/11/1.png
ORGANIZER;CN="Nebenan & Unverpackt M%C3%BCnchen West eG":MAILTO:info@nebenan-unverpackt.de
END:VEVENT
BEGIN:VEVENT
DTSTART;TZID=Europe/Berlin:20251206T110000
DTEND;TZID=Europe/Berlin:20251206T140000
DTSTAMP:20260420T172230
CREATED:20251116T102406Z
LAST-MODIFIED:20251116T115444Z
UID:2782-1765018800-1765029600@nebenan-unverpackt.de
SUMMARY:Verkostung des "Au verd" Olivenöls aus Spanien
DESCRIPTION:Luis bringt sein grünes Gold mit und erzählt euch alles über Serrana Oliven.
URL:https://nebenan-unverpackt.de/veranstaltung/verkostung-des-au-verd-olivenoels/
LOCATION:Nebenan & Unverpackt Laden\, Willibaldstr. 18\, München\, 80687\, Deutschland
ATTACH;FMTTYPE=image/jpeg:https://nebenan-unverpackt.de/wp-content/uploads/2025/11/IMG_3362-e1763294072189.jpg
ORGANIZER;CN="Nebenan & Unverpackt M%C3%BCnchen West eG":MAILTO:info@nebenan-unverpackt.de
END:VEVENT
BEGIN:VEVENT
DTSTART;TZID=Europe/Berlin:20251213T110000
DTEND;TZID=Europe/Berlin:20251213T150000
DTSTAMP:20260420T172230
CREATED:20251116T102146Z
LAST-MODIFIED:20251116T115129Z
UID:2780-1765623600-1765638000@nebenan-unverpackt.de
SUMMARY:Geschenke zum Verbrauchen
DESCRIPTION:In unserem Sortiment werdet ihr fündig. Nehmt euch schöne Gläser\, die wir für Euch gesammelt haben. Füllt sie für FreundInnen und Verwandte mit euren Lieblingsprodukten – und wir verzieren die Gläser weihnachtlich mit eigens dafür gestalteten Anhängern und Bändern aus unserem Fundus.
URL:https://nebenan-unverpackt.de/veranstaltung/geschenke-zum-verbrauchen/
LOCATION:Nebenan & Unverpackt Laden\, Willibaldstr. 18\, München\, 80687\, Deutschland
ATTACH;FMTTYPE=image/jpeg:https://nebenan-unverpackt.de/wp-content/uploads/2025/11/IMG_3346.jpg
ORGANIZER;CN="Nebenan & Unverpackt M%C3%BCnchen West eG":MAILTO:info@nebenan-unverpackt.de
END:VEVENT
END:VCALENDAR