BEGIN:VCALENDAR
VERSION:2.0
PRODID:-//Nebenan &amp; Unverpackt - ECPv6.14.0//NONSGML v1.0//EN
CALSCALE:GREGORIAN
METHOD:PUBLISH
X-WR-CALNAME:Nebenan &amp; Unverpackt
X-ORIGINAL-URL:https://nebenan-unverpackt.de
X-WR-CALDESC:Veranstaltungen für Nebenan &amp; Unverpackt
REFRESH-INTERVAL;VALUE=DURATION:PT1H
X-Robots-Tag:noindex
X-PUBLISHED-TTL:PT1H
BEGIN:VTIMEZONE
TZID:Europe/Berlin
BEGIN:DAYLIGHT
TZOFFSETFROM:+0100
TZOFFSETTO:+0200
TZNAME:CEST
DTSTART:20250330T010000
END:DAYLIGHT
BEGIN:STANDARD
TZOFFSETFROM:+0200
TZOFFSETTO:+0100
TZNAME:CET
DTSTART:20251026T010000
END:STANDARD
END:VTIMEZONE
BEGIN:VEVENT
DTSTART;TZID=Europe/Berlin:20251104T191500
DTEND;TZID=Europe/Berlin:20251104T210000
DTSTAMP:20260420T190028
CREATED:20251009T175441Z
LAST-MODIFIED:20251009T180607Z
UID:2334-1762283700-1762290000@nebenan-unverpackt.de
SUMMARY:Come together: Nebenan mal Hallo sagen
DESCRIPTION:Wir treffen uns im Nebenan & Unverpacktladen\, um uns kennenzulernen und\nuns auszutauschen. \nDer Abend wird entspannt und locker und es gibt die Möglichkeit neue\nFreundschaften zu schließen und interessante Gespräche zu führen. Snacks\nund Getränke kann man erwerben und natürlich ist jeder willkommen\, der\nneugierig auf unseren schönen Laden ist. \nLass uns gemeinsam einen schönen Abend verbringen. \nWir freuen uns auf Dich! \nDein Nebenan & Unverpackt Team
URL:https://nebenan-unverpackt.de/veranstaltung/come-together-nebenan-mal-hallo-sagen-2/
LOCATION:Nebenan & Unverpackt Laden\, Willibaldstr. 18\, München\, 80687\, Deutschland
ATTACH;FMTTYPE=image/jpeg:https://nebenan-unverpackt.de/wp-content/uploads/2025/10/Come-together-4.11.25-e1760858945349.jpeg
END:VEVENT
BEGIN:VEVENT
DTSTART;TZID=Europe/Berlin:20251119T200000
DTEND;TZID=Europe/Berlin:20251119T220000
DTSTAMP:20260420T190028
CREATED:20251015T155256Z
LAST-MODIFIED:20251105T014416Z
UID:2359-1763582400-1763589600@nebenan-unverpackt.de
SUMMARY:Crime and Glühwein
DESCRIPTION:Details stehen auf dem Plakat.  \nWir freuen uns auf euch.
URL:https://nebenan-unverpackt.de/veranstaltung/crime-and-gluehwein-am-abend/
LOCATION:Nebenan & Unverpackt Laden\, Willibaldstr. 18\, München\, 80687\, Deutschland
ATTACH;FMTTYPE=image/png:https://nebenan-unverpackt.de/wp-content/uploads/2025/11/Crime-and-Gluehwein-2025.png
END:VEVENT
BEGIN:VEVENT
DTSTART;TZID=Europe/Berlin:20251122T110000
DTEND;TZID=Europe/Berlin:20251122T150000
DTSTAMP:20260420T190028
CREATED:20250921T132251Z
LAST-MODIFIED:20251111T071554Z
UID:2313-1763809200-1763823600@nebenan-unverpackt.de
SUMMARY:Weihnachtsdeko-Tauschtag
DESCRIPTION:Bei gemütlichem Ambiente und hoffentlich gutem Wetter tauschen wir\, was das Zeug hält. Wenn es zu kalt wird\, gibt es einen schönen heißen Bio- Cappuccino\, Tee oder Punsch. Und zu essen findet ihr natürlich auch immer was. Genießt die Atmosphäre und die Nachhaltigkeit des Tausches.
URL:https://nebenan-unverpackt.de/veranstaltung/weihnachtsdeko-tauschtag/
LOCATION:Nebenan & Unverpackt Laden\, Willibaldstr. 18\, München\, 80687\, Deutschland
ATTACH;FMTTYPE=image/png:https://nebenan-unverpackt.de/wp-content/uploads/2025/09/WEIHNACHTSDEKOTAUSCH3.png
ORGANIZER;CN="Nebenan & Unverpackt M%C3%BCnchen West eG":MAILTO:info@nebenan-unverpackt.de
END:VEVENT
BEGIN:VEVENT
DTSTART;TZID=Europe/Berlin:20251129T110000
DTEND;TZID=Europe/Berlin:20251129T140000
DTSTAMP:20260420T190028
CREATED:20251115T185252Z
LAST-MODIFIED:20251116T103401Z
UID:2771-1764414000-1764424800@nebenan-unverpackt.de
SUMMARY:Furoshiki - nachhaltige Geschenkeverpackung aus Japan
DESCRIPTION:Jutta Eser von Rebeutel zeigt\, wie Geschenkeverpackung mit Tüchern geht.\nDie Teilnahme am Workshop ist kostenlos.
URL:https://nebenan-unverpackt.de/veranstaltung/furoshiki/
LOCATION:Nebenan & Unverpackt Laden\, Willibaldstr. 18\, München\, 80687\, Deutschland
ATTACH;FMTTYPE=image/jpeg:https://nebenan-unverpackt.de/wp-content/uploads/2025/11/0-2.jpg
ORGANIZER;CN="Nebenan & Unverpackt M%C3%BCnchen West eG":MAILTO:info@nebenan-unverpackt.de
END:VEVENT
BEGIN:VEVENT
DTSTART;TZID=Europe/Berlin:20251129T110000
DTEND;TZID=Europe/Berlin:20251129T140000
DTSTAMP:20260420T190028
CREATED:20251116T103542Z
LAST-MODIFIED:20251116T115618Z
UID:2786-1764414000-1764424800@nebenan-unverpackt.de
SUMMARY:Verkostung der "Not Your Mom´s"-Produkte
DESCRIPTION:Verkostung der „Not Your Mom’s“ Produkte (Chili- und Jalapeño Garlic)\nDer Koch kommt persönlich und beantwortet all eure Fragen und probieren dürft ihr natürlich auch.
URL:https://nebenan-unverpackt.de/veranstaltung/verkostung-der-not-your-moms-produkte/
LOCATION:Nebenan & Unverpackt Laden\, Willibaldstr. 18\, München\, 80687\, Deutschland
ATTACH;FMTTYPE=image/jpeg:https://nebenan-unverpackt.de/wp-content/uploads/2025/11/IMG_3364.jpg
ORGANIZER;CN="Nebenan & Unverpackt M%C3%BCnchen West eG":MAILTO:info@nebenan-unverpackt.de
END:VEVENT
END:VCALENDAR