BEGIN:VCALENDAR
VERSION:2.0
PRODID:-//Nebenan &amp; Unverpackt - ECPv6.14.0//NONSGML v1.0//EN
CALSCALE:GREGORIAN
METHOD:PUBLISH
X-WR-CALNAME:Nebenan &amp; Unverpackt
X-ORIGINAL-URL:https://nebenan-unverpackt.de
X-WR-CALDESC:Veranstaltungen für Nebenan &amp; Unverpackt
REFRESH-INTERVAL;VALUE=DURATION:PT1H
X-Robots-Tag:noindex
X-PUBLISHED-TTL:PT1H
BEGIN:VTIMEZONE
TZID:Europe/Berlin
BEGIN:DAYLIGHT
TZOFFSETFROM:+0100
TZOFFSETTO:+0200
TZNAME:CEST
DTSTART:20260329T010000
END:DAYLIGHT
BEGIN:STANDARD
TZOFFSETFROM:+0200
TZOFFSETTO:+0100
TZNAME:CET
DTSTART:20261025T010000
END:STANDARD
END:VTIMEZONE
BEGIN:VEVENT
DTSTART;TZID=Europe/Berlin:20260509T110000
DTEND;TZID=Europe/Berlin:20260509T150000
DTSTAMP:20260420T103436
CREATED:20260330T162625Z
LAST-MODIFIED:20260403T114744Z
UID:2999-1778324400-1778338800@nebenan-unverpackt.de
SUMMARY:"Tausch den Hammer" - Heimwerkerartikel / Werkzeuge tauschen
DESCRIPTION:Wir laden euch herzlich ein zum Werkzeugtauschtag auf unserer schönen Terrasse bei Nebenan & Unverpackt in München Laim/Pasing! \nBringt eure Werkzeuge mit und tauscht sie unkompliziert mit Nachbar:innen – vom Hammer bis zum Akkuschrauber\, vom Schraubenzieher bis zur Zange. Bitte keine Werkzeuge mit Farb- oder Lackresten mitbringen. \nFür euer leibliches Wohl sorgt unser Stephan mit selbstgemachtem Leberkäs in frischen Semmeln – ein echter Genuss! Dazu bieten wir wie immer unser Bio-Sortiment an: Tee\, Kaffee\, erfrischende Getränke und selbstgebackene Kuchen. \nKommt vorbei\, tauscht\, snackt und genießt einen entspannten Nachmittag in guter Gesellschaft. Gemeinsam machen wir Nachhaltigkeit lebendig und stärken unsere Nachbarschaft! \n\nWir freuen uns auf euch und eure Werkzeuge! \n\n 
URL:https://nebenan-unverpackt.de/veranstaltung/tausch-den-hammer/
LOCATION:Nebenan & Unverpackt Laden\, Willibaldstr. 18\, München\, 80687\, Deutschland
CATEGORIES:Aktionstag
ORGANIZER;CN="Nebenan & Unverpackt M%C3%BCnchen West eG":MAILTO:info@nebenan-unverpackt.de
END:VEVENT
BEGIN:VEVENT
DTSTART;TZID=Europe/Berlin:20260509T170000
DTEND;TZID=Europe/Berlin:20260509T190000
DTSTAMP:20260420T103436
CREATED:20260220T083934Z
LAST-MODIFIED:20260220T083934Z
UID:2914-1778346000-1778353200@nebenan-unverpackt.de
SUMMARY:Generalversammlung Genossenschaft
DESCRIPTION:Details unserer wirtschaftlichen Entwicklung und noch mehr möchten wir euch in unserer nächsten Generalversammlung vorstellen. Da wir bei dieser Versammlung darüber sprechen wollen\, was uns alle verbindet – unseren Laden -\, möchten wir euch alle in unsere Räume einladen. \nKommt vorbei und lasst uns gemeinsam erleben und diskutieren\, was sich bei uns tut.
URL:https://nebenan-unverpackt.de/veranstaltung/generalversammlung-genossenschaft/
LOCATION:Nebenan und Unverpackt München West eG\, Willibaldstr 18\, München\, Bayern\, 80687\, Germany
ORGANIZER;CN="Nebenan & Unverpackt M%C3%BCnchen West eG":MAILTO:info@nebenan-unverpackt.de
END:VEVENT
BEGIN:VEVENT
DTSTART;TZID=Europe/Berlin:20260608T191500
DTEND;TZID=Europe/Berlin:20260608T210000
DTSTAMP:20260420T103436
CREATED:20260207T111907Z
LAST-MODIFIED:20260220T152125Z
UID:2885-1780946100-1780952400@nebenan-unverpackt.de
SUMMARY:Come together - nebenan mal hallo sagen (Montag)
DESCRIPTION:Findet diesesmal am Montag statt.  \nWir treffen uns im Nebenan & Unverpacktladen\, um uns kennenzulernen und\nuns auszutauschen. \nDer Abend wird entspannt und locker und es gibt die Möglichkeit neue\nFreundschaften zu schließen und interessante Gespräche zu führen. Snacks\nund Getränke kann man erwerben und natürlich ist jeder willkommen\, der\nneugierig auf unseren schönen Laden ist. \nLass uns gemeinsam einen schönen Abend verbringen. \nWir freuen uns auf Dich! \nDein Nebenan & Unverpackt Team
URL:https://nebenan-unverpackt.de/veranstaltung/come-together-nebenan-mal-gemuetlich-gemacht-3/
LOCATION:Nebenan und Unverpackt München West eG\, Willibaldstr 18\, München\, Bayern\, 80687\, Germany
ORGANIZER;CN="Nebenan & Unverpackt M%C3%BCnchen West eG":MAILTO:info@nebenan-unverpackt.de
END:VEVENT
BEGIN:VEVENT
DTSTART;TZID=Europe/Berlin:20260611T200000
DTEND;TZID=Europe/Berlin:20260611T220000
DTSTAMP:20260420T103436
CREATED:20260409T154503Z
LAST-MODIFIED:20260409T154503Z
UID:3092-1781208000-1781215200@nebenan-unverpackt.de
SUMMARY:Crime and Wine
DESCRIPTION:Crime and Wine – Tickets coming soon!\nDer Vorverkauf hat noch nicht begonnen. Den Starttermin für den Kartenverkauf geben wir hier rechtzeitig bekannt – schaut also gerne wieder vorbei!
URL:https://nebenan-unverpackt.de/veranstaltung/crime-and-wine/
LOCATION:Nebenan & Unverpackt Laden\, Willibaldstr. 18\, München\, 80687\, Deutschland
END:VEVENT
BEGIN:VEVENT
DTSTART;TZID=Europe/Berlin:20260708T180000
DTEND;TZID=Europe/Berlin:20260708T220000
DTSTAMP:20260420T103436
CREATED:20260409T154658Z
LAST-MODIFIED:20260409T154658Z
UID:3094-1783533600-1783548000@nebenan-unverpackt.de
SUMMARY:Apéroabend
DESCRIPTION:
URL:https://nebenan-unverpackt.de/veranstaltung/aperoabend/
LOCATION:Nebenan & Unverpackt Laden\, Willibaldstr. 18\, München\, 80687\, Deutschland
ORGANIZER;CN="Nebenan & Unverpackt M%C3%BCnchen West eG":MAILTO:info@nebenan-unverpackt.de
END:VEVENT
BEGIN:VEVENT
DTSTART;TZID=Europe/Berlin:20260717T170000
DTEND;TZID=Europe/Berlin:20260717T190000
DTSTAMP:20260420T103436
CREATED:20260410T130509Z
LAST-MODIFIED:20260410T143641Z
UID:3097-1784307600-1784314800@nebenan-unverpackt.de
SUMMARY:Kleidertausch am Willibaldplatz
DESCRIPTION:So funktioniert’s:\nBringt bis zu 5 Kleidungsstücke mit und tauscht gegen neue Schätze\, so viele ihr mögt. Bitte gewaschene und intakte Kleidungsstücke am 17. Juli\, wenn möglich vor 17:00 Uhr im Unverpacktladen abgeben. \nStart ist um 17:00 Uhr\, dann könnt ihr:\nAnprobieren und tauschen\, Kaffee / etc. trinken\, Kuchen essen\, unverpackt einkaufen und ins Gespräch kommen.\nWir freuen uns auf Euch\,\ndas Team von Nebenan & Unverpackt
URL:https://nebenan-unverpackt.de/veranstaltung/kleidertausch-5/
LOCATION:Nebenan und Unverpackt München West eG\, Willibaldstr 18\, München\, Bayern\, 80687\, Germany
ORGANIZER;CN="Nebenan & Unverpackt M%C3%BCnchen West eG":MAILTO:info@nebenan-unverpackt.de
END:VEVENT
END:VCALENDAR